BEGIN:VCALENDAR
PRODID:NingEventWidget-v1
VERSION:2.0
METHOD:PUBLISH
BEGIN:VTIMEZONE
TZID:Africa/Blantyre
X-LIC-LOCATION:Africa/Blantyre
BEGIN:STANDARD
TZOFFSETFROM:+0200
TZOFFSETTO:+0200
TZNAME:CAT
DTSTART:19700101T000000
END:STANDARD
END:VTIMEZONE
BEGIN:VEVENT
UID:5994081:Event:601363
DTSTAMP:20260424T223605Z
SUMMARY:ISO600 ON THE SPOT PIACENZA
DESCRIPTION:Seconda edizione del 2017 che si, ammettiamolo, strizza l'
 occhio alle atmosfere Natalize.\r\nÂ \r\nLo ricordiamo, no, non Ã¨ unÂ
  Festival;Â  quello si svolge una sola volta l'anno e coinvolge artist
 i Italiani e Stranieri con un numero cospicuo di opere, eventi, worksh
 op e tanto altro, ma perchÃ© aspettare un anno per rivedersi per condi
 videre la passione per la fotografia istantanea ?\r\nÂ \r\nOn the Spot
  Ã¨ piÃ¹ di una collettiva e meno di un Festival, una rassegna fotogra
 fica itinerante che porterÃ  in giro per l'Italia il mondo dei Polaroi
 ders.\r\nÂ \r\nLa seconda tappa del 2017 si terrÃ  nella meravigliosa 
 cornice di Piazza del Borgo pressoÂ CHEZ MOI,Â dove una selezione di o
 ltre 30Â  Artisti presenterÃ  un operaÂ  istantanea, si terranno works
 hop e incontri, immancabile un PolapartyÂ  e per la prima volta il mer
 catino della fotografia anologica/istantanea.\r\n\r\nQui trovate il pr
 ogramma dettagliato degli eventi :\r\nhttps://www.iso600.it/on-the-spo
 t-piacenza/programma-on-the-spot-p/\r\n\r\n\n\nPer maggiori informazio
 ni visita https://polaroiders.ning.com/events/iso600-on-the-spot-piace
 nza
DTSTART;TZID=Africa/Blantyre:20171216T000000
DTEND;TZID=Africa/Blantyre:20171217T235900
CATEGORIES:mostra, collettiva, di, fotografia, istantanea, e, festaaaa
LOCATION:Chez Moi
WEBSITE:https://www.iso600.it/on-the-spot-piacenza/
URL:https://www.iso600.it/on-the-spot-piacenza/
CONTACT:0536844417
ORGANIZER:polaroiders myinstantlife chez moi
ATTACH;FMTTYPE="image/jpeg":http://storage.ning.com/topology/rest/1.0/
 file/get/1114137860?profile=original
ATTENDEE;ROLE=REQ-PARTICIPANT;PARTSTAT=ACCEPTED;RSVP=TRUE;CN="Luca Cor
 radi":https://polaroiders.ning.com/profile/Luca66
ATTENDEE;ROLE=REQ-PARTICIPANT;PARTSTAT=ACCEPTED;RSVP=TRUE;CN="Alessia 
 ":https://polaroiders.ning.com/profile/AlessiaAmati
ATTENDEE;ROLE=REQ-PARTICIPANT;PARTSTAT=ACCEPTED;RSVP=TRUE;CN="Simone O
 dorici":https://polaroiders.ning.com/profile/SimoneOdorici
ATTENDEE;ROLE=REQ-PARTICIPANT;PARTSTAT=ACCEPTED;RSVP=TRUE;CN="Mariano 
 Biazzi AlcÃ¡ntara":https://polaroiders.ning.com/profile/MarianoBiazziA
 lcantara
ATTENDEE;ROLE=REQ-PARTICIPANT;PARTSTAT=ACCEPTED;RSVP=TRUE;CN="Gian Pao
 lo Bocchetti":https://polaroiders.ning.com/profile/GianPaoloBocchetti
ATTENDEE;ROLE=REQ-PARTICIPANT;PARTSTAT=ACCEPTED;RSVP=TRUE;CN=polaroide
 rs:https://polaroiders.ning.com/profile/polaroiders
ATTENDEE;ROLE=REQ-PARTICIPANT;PARTSTAT=TENTATIVE;RSVP=TRUE;CN="Aldo St
 efanni":https://polaroiders.ning.com/profile/AldoStefanni
ATTENDEE;ROLE=REQ-PARTICIPANT;PARTSTAT=TENTATIVE;RSVP=TRUE;CN=cinzia:h
 ttps://polaroiders.ning.com/profile/cinzia
ATTENDEE;ROLE=REQ-PARTICIPANT;PARTSTAT=TENTATIVE;RSVP=TRUE;CN="Maria V
 odarich":https://polaroiders.ning.com/profile/MariaVodarich
END:VEVENT
END:VCALENDAR
